BEGIN:VCALENDAR
VERSION:2.0
PRODID:-//Bake This - ECPv6.15.20//NONSGML v1.0//EN
CALSCALE:GREGORIAN
METHOD:PUBLISH
X-WR-CALNAME:Bake This
X-ORIGINAL-URL:https://www.bakethis.de
X-WR-CALDESC:Events for Bake This
REFRESH-INTERVAL;VALUE=DURATION:PT1H
X-Robots-Tag:noindex
X-PUBLISHED-TTL:PT1H
BEGIN:VTIMEZONE
TZID:Europe/Paris
BEGIN:DAYLIGHT
TZOFFSETFROM:+0100
TZOFFSETTO:+0200
TZNAME:CEST
DTSTART:20210328T010000
END:DAYLIGHT
BEGIN:STANDARD
TZOFFSETFROM:+0200
TZOFFSETTO:+0100
TZNAME:CET
DTSTART:20211031T010000
END:STANDARD
BEGIN:DAYLIGHT
TZOFFSETFROM:+0100
TZOFFSETTO:+0200
TZNAME:CEST
DTSTART:20220327T010000
END:DAYLIGHT
BEGIN:STANDARD
TZOFFSETFROM:+0200
TZOFFSETTO:+0100
TZNAME:CET
DTSTART:20221030T010000
END:STANDARD
BEGIN:DAYLIGHT
TZOFFSETFROM:+0100
TZOFFSETTO:+0200
TZNAME:CEST
DTSTART:20230326T010000
END:DAYLIGHT
BEGIN:STANDARD
TZOFFSETFROM:+0200
TZOFFSETTO:+0100
TZNAME:CET
DTSTART:20231029T010000
END:STANDARD
END:VTIMEZONE
BEGIN:VEVENT
DTSTART;TZID=Europe/Paris:20220625T200000
DTEND;TZID=Europe/Paris:20220625T214500
DTSTAMP:20260422T063040
CREATED:20211104T174847Z
LAST-MODIFIED:20220612T094851Z
UID:4293-1656187200-1656193500@www.bakethis.de
SUMMARY:Improvision Song Contest
DESCRIPTION:Come join us for our grand finale before the summer break! Expect the magic of the original Eurovision song contest\, but this time\, it’s all improvised! YOU choose what we sing! From German rap to Romanian folk music\, anything goes! In the end\, it is up to the audience to decide who takes home the trophy. With flashy costumes\, moving songs\, and incredible choreography\, you’re in for a treat!
URL:https://www.bakethis.de/event/summer-musical-special/
LOCATION:Wirtshaus zum Isartal\, Brudermühlstr. 2\, Munich\, BY\, 81371\, Germany
CATEGORIES:Shows
END:VEVENT
END:VCALENDAR