BEGIN:VCALENDAR
VERSION:2.0
PRODID:-//Bake This - ECPv6.15.20//NONSGML v1.0//EN
CALSCALE:GREGORIAN
METHOD:PUBLISH
X-ORIGINAL-URL:https://www.bakethis.de
X-WR-CALDESC:Events for Bake This
REFRESH-INTERVAL;VALUE=DURATION:PT1H
X-Robots-Tag:noindex
X-PUBLISHED-TTL:PT1H
BEGIN:VTIMEZONE
TZID:Europe/Paris
BEGIN:DAYLIGHT
TZOFFSETFROM:+0100
TZOFFSETTO:+0200
TZNAME:CEST
DTSTART:20220327T010000
END:DAYLIGHT
BEGIN:STANDARD
TZOFFSETFROM:+0200
TZOFFSETTO:+0100
TZNAME:CET
DTSTART:20221030T010000
END:STANDARD
BEGIN:DAYLIGHT
TZOFFSETFROM:+0100
TZOFFSETTO:+0200
TZNAME:CEST
DTSTART:20230326T010000
END:DAYLIGHT
BEGIN:STANDARD
TZOFFSETFROM:+0200
TZOFFSETTO:+0100
TZNAME:CET
DTSTART:20231029T010000
END:STANDARD
BEGIN:DAYLIGHT
TZOFFSETFROM:+0100
TZOFFSETTO:+0200
TZNAME:CEST
DTSTART:20240331T010000
END:DAYLIGHT
BEGIN:STANDARD
TZOFFSETFROM:+0200
TZOFFSETTO:+0100
TZNAME:CET
DTSTART:20241027T010000
END:STANDARD
END:VTIMEZONE
BEGIN:VEVENT
DTSTART;TZID=Europe/Paris:20230315T090000
DTEND;TZID=Europe/Paris:20230315T160000
DTSTAMP:20260420T162812
CREATED:20230123T161938Z
LAST-MODIFIED:20230127T144720Z
UID:4674-1678870800-1678896000@www.bakethis.de
SUMMARY:Improvisationstheater im Unterricht - Improv for the Classroom (in English)
DESCRIPTION:(Scroll down for English) \nImprovisationstheater im Unterricht – Spielend fördern\nWer möchte sie nicht – Schüler*innen\, die kreativ und offen sind und mitfühlend miteinander umgehen? Mit speziellen Techniken des Improvisationstheaters\, die Sie selbst kreativ im Unterricht einbringen\, können Sie bei Ihren Schüler*innen sowohl Ausdrucksfähigkeit und Sprachverständnis auf spielerische Weise fördern\, als auch deren persönliche Entwicklung stärken.  \nDie Techniken\, die Sie in diesem interaktiven Workshop erlernen und anwenden\, unterstützen Sie dabei\, gleichermaßen die sozialen wie sprachlichen Fähigkeiten Ihrer Schüler*innen weiterzuentwickeln.  \nDie Fortbildung eignet sich insbesondere für den (Fremd-) Sprachenunterricht\, aber auch Lehrkräfte anderer Fächer werden von den hier erlernten Fertigkeiten profitieren. Auf die Umsetzungsmöglichkeiten für die einzelnen Fächer wird individuell im Workshop eingegangen. \nTeilnahmevoraussetzungen: Es sind keine Vorkenntnisse im Bereich Theater/Improvisationskunst erforderlich. Da der Workshop in Englisch gehalten wird\, sind Grundkenntnisse in #Englisch erforderlich.\nHinweise: Dieser Workshop ist besonders geeignet für die Teilnehmenden am Berufseinstiegsprogramm #BEST. \nDie US-amerikanische Referentin ist Schauspielerin und Leiterin des englischen Improtheaters „Bake This“ in München. \nStimmen von Teilnehmenden vergangener Kurse: „sehr kurzweilig“\, „kreative Ansätze\, die man individuell nutzen kann“\, „sehr angenehme Atmosphäre\, super sympathische Kursleiterin“ \nBildungseinrichtung: Berufliche Schulen\, Grundschule\, Gymnasium\, Mittelschule\, Realschule\nPersonenkreis: Lehrkräfte\, Referent*innen\n——————–\nANMELDUNG INFO\n——————– \nEigenbetrag Externe: 80\,00 €\nEigenbetrag Interne: 0\,00 €\nTeilnehmende: 14\nDauer: 1 Tag\nSachbearbeitung: Frau Gabriele Worm\nImprovisationstheater im Unterricht – Spielend fördern\nPädagogisches Institut – Zentrum für Kommunales Bildungsmanagement\n———————- \nAre you a teacher looking for new ideas to help motivate your students? Join this fun\, interactive workshop! It is free for Munich public school teachers and can be paid for privately for all others who are interested. This interactive workshop uses improvisation theatre techniques to enhance your creative skill set\, aiming to promote students’ use of language while allowing them to freely express themselves. You’ll learn a variety of games and exercises to use in the classroom\, helping your students become more creative\, open\, and empathetic with one another while improving their listening and communication skills. No previous theater or improvisation experience required. \nThis workshop will be taught in English by Jodi Pfleghar from Bake This Improv. \n——————–\nSIGN-UP INFO\n——————– \nCost External: 80\,00 €\nCost Internal: 0\,00 €\nParticipants: 14\nTime: 1 Tag – 9:00 – 16:00\nSachbearbeitung: Frau Gabriele Worm\nImprovisationstheater im Unterricht – Spielend fördern\n———————-\n——\nJodi Pfleghar (USA/Germany) is the Creative Director of Bake This\, Munich’s English improv performance group\, the Co-Founder of and teacher at ImproMunichorn\, and the Director of Improvember\, Munich’s international improv festival. As well as teaching and performing all around Germany\, Jodi works as a voiceover actor\, screenplay editor\, and Business English teacher. If she’s not on stage or hanging out with her two incredible daughters\, you can usually find her improvising musical numbers or singing karaoke.
URL:https://www.bakethis.de/event/improvisationstheater-im-unterricht-improv-for-the-classroom-in-english/
LOCATION:BY
CATEGORIES:Workshops
END:VEVENT
BEGIN:VEVENT
DTSTART;TZID=Europe/Paris:20230317T190000
DTEND;TZID=Europe/Paris:20230317T220000
DTSTAMP:20260420T162812
CREATED:20230126T082032Z
LAST-MODIFIED:20230126T082032Z
UID:4689-1679079600-1679090400@www.bakethis.de
SUMMARY:Re-Writing the Rules - an Improv Workshop with Chris Littrell
DESCRIPTION:Rewriting the Rules – Intermediate Level\nAsk any person the rules of good improv\, and you’ll likely get the same answer\, yes and… don’t say no\, avoid questions. The list goes on and on. This course is aimed at helping players break out of their heads\, and away from the rules by focusing on support\, commitment\, and understanding that all rules are meant to be broken. \nChris Littrell has been playing\, writing\, and performing in some form or another for the past 15 years. He has lived in Munich\, Berlin\, and is once again back in Chicago\, IL\, where he trained professionally at the world renowned Second City Conservatory\, iO Theater\, and The Annoyance. Chris specializes in teaching Chicago-style long forms\, how to create sketch material from improv\, and building ensemble. He’s excited to work with you! \nTickets
URL:https://www.bakethis.de/event/re-writing-the-rules-an-improv-workshop-with-chris-littrell/
LOCATION:Elisabethplatz\, Munich
CATEGORIES:Workshops
END:VEVENT
END:VCALENDAR