BEGIN:VCALENDAR
VERSION:2.0
PRODID:-//Bake This - ECPv6.15.20//NONSGML v1.0//EN
CALSCALE:GREGORIAN
METHOD:PUBLISH
X-WR-CALNAME:Bake This
X-ORIGINAL-URL:https://www.bakethis.de
X-WR-CALDESC:Events for Bake This
REFRESH-INTERVAL;VALUE=DURATION:PT1H
X-Robots-Tag:noindex
X-PUBLISHED-TTL:PT1H
BEGIN:VTIMEZONE
TZID:Europe/Paris
BEGIN:DAYLIGHT
TZOFFSETFROM:+0100
TZOFFSETTO:+0200
TZNAME:CEST
DTSTART:20210328T010000
END:DAYLIGHT
BEGIN:STANDARD
TZOFFSETFROM:+0200
TZOFFSETTO:+0100
TZNAME:CET
DTSTART:20211031T010000
END:STANDARD
BEGIN:DAYLIGHT
TZOFFSETFROM:+0100
TZOFFSETTO:+0200
TZNAME:CEST
DTSTART:20220327T010000
END:DAYLIGHT
BEGIN:STANDARD
TZOFFSETFROM:+0200
TZOFFSETTO:+0100
TZNAME:CET
DTSTART:20221030T010000
END:STANDARD
BEGIN:DAYLIGHT
TZOFFSETFROM:+0100
TZOFFSETTO:+0200
TZNAME:CEST
DTSTART:20230326T010000
END:DAYLIGHT
BEGIN:STANDARD
TZOFFSETFROM:+0200
TZOFFSETTO:+0100
TZNAME:CET
DTSTART:20231029T010000
END:STANDARD
END:VTIMEZONE
BEGIN:VEVENT
DTSTART;TZID=Europe/Paris:20220727T200000
DTEND;TZID=Europe/Paris:20220727T200000
DTSTAMP:20260423T112528
CREATED:20220613T144549Z
LAST-MODIFIED:20220626T173719Z
UID:4535-1658952000-1658952000@www.bakethis.de
SUMMARY:Fight for the Stage - Interactive GameShow
DESCRIPTION:The audience is split into two teams that will compete against each other. Everybody also has the chance to become an active player and help take their team into the final round. We’ll have a variety of disciplines so whether you are an improviser or not\, just throw your name into the ring and get ready to fight. It’ll be a mix between a wrestling match\, game show\, truth or dare\, and Survivor. Which team will take home the trophy? \nTickets
URL:https://www.bakethis.de/event/fight-for-the-stage-interactive-gameshow/
LOCATION:Heppel & Ettlich\, Feilitzschstr. 12\, Munich\, BY\, 80802\, Germany
CATEGORIES:Shows
END:VEVENT
END:VCALENDAR