BEGIN:VCALENDAR
VERSION:2.0
PRODID:-//Bake This - ECPv6.15.20//NONSGML v1.0//EN
CALSCALE:GREGORIAN
METHOD:PUBLISH
X-ORIGINAL-URL:https://www.bakethis.de
X-WR-CALDESC:Events for Bake This
REFRESH-INTERVAL;VALUE=DURATION:PT1H
X-Robots-Tag:noindex
X-PUBLISHED-TTL:PT1H
BEGIN:VTIMEZONE
TZID:Europe/Paris
BEGIN:DAYLIGHT
TZOFFSETFROM:+0100
TZOFFSETTO:+0200
TZNAME:CEST
DTSTART:20220327T010000
END:DAYLIGHT
BEGIN:STANDARD
TZOFFSETFROM:+0200
TZOFFSETTO:+0100
TZNAME:CET
DTSTART:20221030T010000
END:STANDARD
BEGIN:DAYLIGHT
TZOFFSETFROM:+0100
TZOFFSETTO:+0200
TZNAME:CEST
DTSTART:20230326T010000
END:DAYLIGHT
BEGIN:STANDARD
TZOFFSETFROM:+0200
TZOFFSETTO:+0100
TZNAME:CET
DTSTART:20231029T010000
END:STANDARD
BEGIN:DAYLIGHT
TZOFFSETFROM:+0100
TZOFFSETTO:+0200
TZNAME:CEST
DTSTART:20240331T010000
END:DAYLIGHT
BEGIN:STANDARD
TZOFFSETFROM:+0200
TZOFFSETTO:+0100
TZNAME:CET
DTSTART:20241027T010000
END:STANDARD
END:VTIMEZONE
BEGIN:VEVENT
DTSTART;TZID=Europe/Paris:20231021T110000
DTEND;TZID=Europe/Paris:20231021T180000
DTSTAMP:20260425T202525
CREATED:20230702T193557Z
LAST-MODIFIED:20230702T193752Z
UID:4770-1697886000-1697911200@www.bakethis.de
SUMMARY:The Harold - a Longform Improv Workshop
DESCRIPTION:This workshop will focus on enhancing participants’ listening skills and creativity by exploring the structure of a Harold\, openings\, group mind\, and the illusion of storytelling. Rachel warmly welcomes Individuals from all backgrounds\, providing a supportive space for anyone interested in venturing on a journey into the world of long-form improvisation. \nTickets \nAbout Rachel\nRachel Rios is a dedicated improviser with almost a decade of experience in the art form. She trained at the esteemed People’s Improv Theatre in New York City and explored acting classes at New York University. Throughout her journey\, Rachel has been part of various troupes and performed on numerous stages in New York. Driven by her love for improv\, Rachel now aims to share her passion and knowledge with others in Munich and around Europe.	 \nNote\nThe discounted price is valid for students or anyone who has ever already taken a paid workshop with “Bake This Improv” in the past.
URL:https://www.bakethis.de/event/the-harold-a-longform-improv-workshop/
LOCATION:Elisabethplatz\, Munich
CATEGORIES:Workshops
ATTACH;FMTTYPE=image/jpeg:https://www.bakethis.de/wp-content/uploads/2023/07/WhatsApp-Image-2023-06-29-at-17.52.46.jpeg
END:VEVENT
END:VCALENDAR