BEGIN:VCALENDAR
VERSION:2.0
PRODID:-//Bake This - ECPv6.15.20//NONSGML v1.0//EN
CALSCALE:GREGORIAN
METHOD:PUBLISH
X-ORIGINAL-URL:https://www.bakethis.de
X-WR-CALDESC:Events for Bake This
REFRESH-INTERVAL;VALUE=DURATION:PT1H
X-Robots-Tag:noindex
X-PUBLISHED-TTL:PT1H
BEGIN:VTIMEZONE
TZID:Europe/Paris
BEGIN:DAYLIGHT
TZOFFSETFROM:+0100
TZOFFSETTO:+0200
TZNAME:CEST
DTSTART:20220327T010000
END:DAYLIGHT
BEGIN:STANDARD
TZOFFSETFROM:+0200
TZOFFSETTO:+0100
TZNAME:CET
DTSTART:20221030T010000
END:STANDARD
BEGIN:DAYLIGHT
TZOFFSETFROM:+0100
TZOFFSETTO:+0200
TZNAME:CEST
DTSTART:20230326T010000
END:DAYLIGHT
BEGIN:STANDARD
TZOFFSETFROM:+0200
TZOFFSETTO:+0100
TZNAME:CET
DTSTART:20231029T010000
END:STANDARD
BEGIN:DAYLIGHT
TZOFFSETFROM:+0100
TZOFFSETTO:+0200
TZNAME:CEST
DTSTART:20240331T010000
END:DAYLIGHT
BEGIN:STANDARD
TZOFFSETFROM:+0200
TZOFFSETTO:+0100
TZNAME:CET
DTSTART:20241027T010000
END:STANDARD
END:VTIMEZONE
BEGIN:VEVENT
DTSTART;TZID=Europe/Paris:20230914T190000
DTEND;TZID=Europe/Paris:20230914T220000
DTSTAMP:20260425T184312
CREATED:20230627T174433Z
LAST-MODIFIED:20230627T195732Z
UID:4731-1694718000-1694728800@www.bakethis.de
SUMMARY:Yes and ... an Intro to Improv Workshop
DESCRIPTION:Learn the basics of improv in a fun\, interactive\, and supportive environment! This workshop is beginner-friendly and offers the possibility to stretch your comfort zone\, meet new people and have a really good time. We will play fun and silly warm up games\, try out various exercises that support active listening\, emotional expression\, storytelling and much more. \nTickets \nAbout Anki\nAnki is a Munich based improviser known for her high energy workshops and jams. Her main teaching focus is “attitude before skills” with a special attention to the joy in failing. \nShe is the creator of Improvshine\, an online space for jams\, workshops\, and a podcast. You may find her teaching improv in various groups around Munich\, and you will surely recognize her by her very loud laugh. \nNote \nThe discounted price is valid for students or anyone who has ever already taken a paid workshop with “Bake This Improv” in the past. \nTickets must be purchased online in advance.\nRegular: 50€\nReturning Student: 40€
URL:https://www.bakethis.de/event/yes-and-an-intro-to-improv-workshop/
LOCATION:Elisabethplatz\, Munich
CATEGORIES:Workshops
ATTACH;FMTTYPE=image/jpeg:https://www.bakethis.de/wp-content/uploads/2023/06/AnkiWorkshop.jpg
END:VEVENT
END:VCALENDAR