BEGIN:VCALENDAR
VERSION:2.0
PRODID:-//Bake This - ECPv6.15.20//NONSGML v1.0//EN
CALSCALE:GREGORIAN
METHOD:PUBLISH
X-ORIGINAL-URL:https://www.bakethis.de
X-WR-CALDESC:Events for Bake This
REFRESH-INTERVAL;VALUE=DURATION:PT1H
X-Robots-Tag:noindex
X-PUBLISHED-TTL:PT1H
BEGIN:VTIMEZONE
TZID:Europe/Paris
BEGIN:DAYLIGHT
TZOFFSETFROM:+0100
TZOFFSETTO:+0200
TZNAME:CEST
DTSTART:20210328T010000
END:DAYLIGHT
BEGIN:STANDARD
TZOFFSETFROM:+0200
TZOFFSETTO:+0100
TZNAME:CET
DTSTART:20211031T010000
END:STANDARD
BEGIN:DAYLIGHT
TZOFFSETFROM:+0100
TZOFFSETTO:+0200
TZNAME:CEST
DTSTART:20220327T010000
END:DAYLIGHT
BEGIN:STANDARD
TZOFFSETFROM:+0200
TZOFFSETTO:+0100
TZNAME:CET
DTSTART:20221030T010000
END:STANDARD
BEGIN:DAYLIGHT
TZOFFSETFROM:+0100
TZOFFSETTO:+0200
TZNAME:CEST
DTSTART:20230326T010000
END:DAYLIGHT
BEGIN:STANDARD
TZOFFSETFROM:+0200
TZOFFSETTO:+0100
TZNAME:CET
DTSTART:20231029T010000
END:STANDARD
END:VTIMEZONE
BEGIN:VEVENT
DTSTART;TZID=Europe/Paris:20220928T200000
DTEND;TZID=Europe/Paris:20220928T213000
DTSTAMP:20260421T205407
CREATED:20220711T132910Z
LAST-MODIFIED:20220817T113352Z
UID:4550-1664395200-1664400600@www.bakethis.de
SUMMARY:Improv Comedy Show
DESCRIPTION:You supply the ingredients in the form of suggestions\, and Bake This comes up with the recipe! Stories\, songs\, and scenes all created on the spot! It’s fun\, daring\, funny\, sad and touching. Expect the unexpected\, as an entire show unfolds live before your eyes!  \nTickets \nFood and Drink are available in the Theatre. Doors open at 19:00. \nONLINE TICKET COSTS\nRegular: 18€\nStudent: 12€  \nBOX OFFICE TICKET COSTS (at the door)\nRegular: 20€\nStudent: 14€ \nGROUP OF 5 TICKETS\n(Available online ONLY): 75€
URL:https://www.bakethis.de/event/improv-comedy-show/
LOCATION:Wirtshaus zum Isartal\, Brudermühlstr. 2\, Munich\, BY\, 81371\, Germany
CATEGORIES:Shows
END:VEVENT
END:VCALENDAR